{"text_format":"1","workbook":"xlsx","n_sheets":12,"sheets":["Sygehus og Skanner","CT-cerebrum","CT-Thorax","Kurver, CTDI Thorax","Kurver, DLP Thorax","CT-Abdomen","Lister","Kurver, CTDI Abdomen","Kurver, DLP Abdomen","Valgfri (2)","Valgfri","Data, kurver"],"not_rendered":{"charts":8,"images":0,"macros":0,"external_links":0,"defined_names":5,"comments":0,"pivot_tables":0},"unopened":[{"sheet":"Kurver, CTDI Thorax","index":3,"reason":"not_a_worksheet"},{"sheet":"Kurver, DLP Thorax","index":4,"reason":"not_a_worksheet"},{"sheet":"Kurver, CTDI Abdomen","index":7,"reason":"not_a_worksheet"},{"sheet":"Kurver, DLP Abdomen","index":8,"reason":"not_a_worksheet"}],"bounds":{"document_bytes":16777216,"sheet_cells":100000,"rows_first":2000,"rows_last":500,"rows_between":2000,"halvings":0,"cell_chars":16384,"cell_head_chars":4096},"cells_cut":0,"cells_raw":0,"read":"whole","date_system":"1900"}

{"sheet":"Sygehus og Skanner","index":0,"n_rows":23,"n_cols":1,"rows_kept":23,"cut":false,"hidden":false,"merged":[[22,0,38,1],[1,0,1,1],[15,0,21,1],[0,0,0,1],[13,0,14,1]]}
["CT undersøgelser på børn 0-17 år"]
["Sygehus- og Skanneroplysninger"]
["Sygehus"]
["Afdeling"]
["SOR-ID eller AFD-ID "]
["Rum-nr."]
["SIS-registrerings nummer STG-xxxxxxxx"]
["Skannerproducent"]
["Model"]
["Maks. antal slices pr. rotation"]
["Detektorbredde (mm)"]
["Oplysninger om dosisreduktion"]
["Installationsår"]
["Kommentarer"]
[]
[]
[]
[]
[]
[]
[]
[]
["Dette dokument benyttes i forbindelse med indsamling og indsendelse af patientdoser på børn ved CT undersøgelser. Der skal udfyldes et exceldokument pr. røntgenrum. Vær opmærksom på der findes 2 indtastningsark til børn: konventionelle røntgenundersøgelser og CT-skanning.\nInformation om hvordan patientdoser på børn måles kan findes i vejledning på SIS' hjemmeside www.sis.dk: Patientdosimetri ved røntgenundersøgelser af børn, 2022.\n\nNB: Projektmappen er beskyttet, således at der ikke kan slettes, indsættes eller omdøbes ark. Ligeledes er de enkelte ark beskyttet, således at der ikke kan ændres i oplysningerne i toppen af arket.\n\nSundhedsstyrelsen, Strålebeskyttelse,  April 2022\n"]

{"sheet":"CT-cerebrum","index":1,"n_rows":41,"n_cols":15,"rows_kept":41,"cut":false,"hidden":false,"merged":[[7,0,7,10],[8,9,8,10],[9,9,9,10],[10,9,10,10],[11,9,11,10],[4,7,4,9],[3,0,3,1],[3,4,3,5],[0,0,1,10],[2,0,2,10],[3,7,3,9],[4,0,4,1],[4,2,4,3],[4,4,4,5],[5,0,5,1],[5,2,5,3],[5,4,5,5],[5,7,5,9],[6,0,6,1],[6,2,6,3],[6,4,6,5],[6,7,6,9],[24,9,24,10],[25,9,25,10],[26,9,26,10],[27,9,27,10],[12,9,12,10],[13,9,13,10],[14,9,14,10],[15,9,15,10],[16,9,16,10],[41,0,47,10],[32,9,32,10],[33,9,33,10],[34,9,34,10],[35,9,35,10],[36,9,36,10],[8,12,8,14],[37,9,37,10],[38,9,38,10],[39,0,39,10],[40,0,40,10],[17,9,17,10],[28,9,28,10],[29,9,29,10],[30,9,30,10],[31,9,31,10],[18,9,18,10],[19,9,19,10],[20,9,20,10],[21,9,21,10],[22,9,22,10],[23,9,23,10]]}
["Cerebrum - blødning/infarkt, uden kontrast"]
[]
["Protokoloplysninger"]
["kV (angiv begge ved dual-teknik)",null,null,null,"Antal skanfaser, udover oversigt(erne)",null,null,"Iterativ rekonstruktion (skriv gerne detaljer)"]
["Kontrast tracking",null,null,null,"CTDI kalibrering",null,null,"Snittykkelse (rekonstruktion)"]
["Aksial/Spiral",null,null,null,"Dosis-modulering (AEC)",null,null,"Rotationstid (s)"]
["Pitch",null,null,null,"Antal snit pr. rotation",null,null,"Skannet snittykkelse (mm)"]
[]
["kV","CTDIvol [mGy]","DLP [mGy·cm]","SSDE","Højde [cm]","Vægt [kg]","Køn [K/M]","Alder [år]","Alder [måneder]","Bemærkninger",null,null,"Referencedoser"]
[null,null,null,null,null,null,null,null,null,null,null,null,"Alder","CTDIvol [mGy]","DLP [mGy·cm]"]
[null,null,null,null,null,null,null,null,null,null,null,null,"[0-<3 måneder]",28,403]
[null,null,null,null,null,null,null,null,null,null,null,null,"[3 måneder-<1 år]",27,398]
[null,null,null,null,null,null,null,null,null,null,null,null,"[1-<6 år]",31,516]
[null,null,null,null,null," ",null,null,null,null,null,null,"[>=6 år]",39,679]
[]
[]
[]
[]
[]
[]
[]
[]
[]
[]
[]
[]
[]
[]
[]
[]
[]
[]
[]
[]
[]
[]
[]
[]
[]
[]
["Kommentarer"]

{"sheet":"CT-Thorax","index":2,"n_rows":41,"n_cols":14,"rows_kept":41,"cut":false,"hidden":false,"merged":[[7,0,7,9],[8,8,8,9],[9,8,9,9],[10,8,10,9],[11,8,11,9],[4,7,4,8],[3,0,3,1],[3,4,3,5],[0,0,1,9],[2,0,2,9],[3,7,3,8],[4,0,4,1],[4,2,4,3],[4,4,4,5],[5,0,5,1],[5,2,5,3],[5,4,5,5],[5,7,5,8],[6,0,6,1],[6,2,6,3],[6,4,6,5],[6,7,6,8],[26,8,26,9],[20,8,20,9],[21,8,21,9],[22,8,22,9],[23,8,23,9],[24,8,24,9],[25,8,25,9],[27,8,27,9],[28,8,28,9],[29,8,29,9],[30,8,30,9],[31,8,31,9],[32,8,32,9],[33,8,33,9],[34,8,34,9],[35,8,35,9],[36,8,36,9],[37,8,37,9],[38,8,38,9],[39,0,39,9],[40,0,40,9],[41,0,47,9],[8,11,8,13],[16,8,16,9],[17,8,17,9],[18,8,18,9],[19,8,19,9],[12,8,12,9],[13,8,13,9],[14,8,14,9],[15,8,15,9]]}
["CT-skanning af thorax - Tumor, metastaser, med kontrast"]
[]
["Protokoloplysninger"]
["kV (angiv begge ved dual-teknik)",null,null,null,"Antal skanfaser, udover oversigt(erne)",null,null,"Iterativ rekonstruktion (skriv gerne detaljer)"]
["Kontrast tracking",null,null,null,"CTDI kalibrering",null,null,"Snittykkelse (rekonstruktion)"]
["Aksial/Spiral",null,null,null,"Dosis-modulering (AEC)",null,null,"Rotationstid (s)"]
["Pitch",null,null,null,"Antal snit pr. rotation",null,null,"Skannet snittykkelse (mm)"]
[]
["kV","CTDIvol [mGy]","DLP [mGy·cm]","SSDE","Højde [cm]","Vægt [kg]","Køn [K/M]","Alder [år]","Bemærkninger",null,null,"Referencedoser"]
[null,null,null,null,null,null,null,null,null,null,null,"Vægt","CTDIvol [mGy]","DLP [mGy·cm]"]
[null,null,null,null,null,null,null,null,null,null,null,"[5-<15 kg]",1.22,25]
[null,null,null,null,null,null,null,null,null,null,null,"[15-<30kg]",1.58,41]
[null,null,null,null,null,null,null,null,null,null,null,"[30-<50 kg]",2.4300000000000002,64]
[null,null,null,null,null,null,null,null,null,null,null,"[50-<70 kg]",2.99,103]
[]
[]
[]
[]
[]
[]
[]
[]
[]
[]
[]
[]
[]
[]
[]
[]
[]
[]
[]
[]
[]
[]
[]
[]
[]
[]
["Kommentarer"]

{"sheet":"CT-Abdomen","index":5,"n_rows":41,"n_cols":14,"rows_kept":41,"cut":false,"hidden":false,"merged":[[3,0,3,1],[3,4,3,5],[0,0,1,9],[2,0,2,9],[3,7,3,8],[6,2,6,3],[6,4,6,5],[6,7,6,8],[4,0,4,1],[4,2,4,3],[4,4,4,5],[5,0,5,1],[5,2,5,3],[5,4,5,5],[4,7,4,8],[20,8,20,9],[21,8,21,9],[22,8,22,9],[23,8,23,9],[5,7,5,8],[7,0,7,9],[8,8,8,9],[9,8,9,9],[10,8,10,9],[11,8,11,9],[15,8,15,9],[16,8,16,9],[17,8,17,9],[18,8,18,9],[19,8,19,9],[6,0,6,1],[41,0,47,9],[32,8,32,9],[33,8,33,9],[34,8,34,9],[35,8,35,9],[36,8,36,9],[8,11,8,13],[37,8,37,9],[38,8,38,9],[39,0,39,9],[40,0,40,9],[27,8,27,9],[28,8,28,9],[29,8,29,9],[30,8,30,9],[31,8,31,9],[12,8,12,9],[13,8,13,9],[24,8,24,9],[25,8,25,9],[26,8,26,9],[14,8,14,9]]}
["CT-skanning af abdomen - Tumor eller infektion, uden kontrast"]
[]
["Protokoloplysninger"]
["kV (angiv begge ved dual-teknik)",null,null,null,"Antal skanfaser, udover oversigt(erne)",null,null,"Iterativ rekonstruktion (skriv gerne detaljer)"]
["Kontrast tracking",null,null,null,"CTDI kalibrering",null,null,"Snittykkelse (rekonstruktion)"]
["Aksial/Spiral",null,null,null,"Dosis-modulering (AEC)",null,null,"Rotationstid (s)"]
["Pitch",null,null,null,"Antal snit pr. rotation",null,null,"Skannet snittykkelse (mm)"]
[]
["kV","CTDIvol [mGy]","DLP [mGy·cm]","SSDE","Højde [cm]","Vægt [kg]","Køn [K/M]","Alder [år]","Bemærkninger",null,null,"Referencedoser"]
[null,null,null,null,null,null,null,null,null,null,null,"Vægt","CTDIvol [mGy]","DLP [mGy·cm]"]
[null,null,null,null,null,null,null,null,null,null,null,"[15-<30kg]",2.6,92]
[null,null,null,null,null,null,null,null,null,null,null,"[30-<50 kg]",3.4,150.30000000000001]
[null,null,null,null,null,null,null,null,null,null,null,"[50-<70 kg]",5,247]
[]
[]
[]
[]
[]
[]
[]
[]
[]
[]
[]
[]
[]
[]
[]
[]
[]
[]
[]
[]
[]
[]
[]
[]
[]
[]
[]
["Kommentarer"]

{"sheet":"Lister","index":6,"n_rows":2,"n_cols":3,"rows_kept":2,"cut":false,"hidden":true,"merged":[]}
["Ja","Aksial","M"]
["Nej","Spiral","K"]

{"sheet":"Valgfri (2)","index":9,"n_rows":41,"n_cols":8,"rows_kept":41,"cut":false,"hidden":false,"merged":[[37,7,37,9],[38,7,38,9],[29,7,29,9],[30,7,30,9],[31,7,31,9],[32,7,32,9],[33,7,33,9],[34,7,34,9],[17,7,17,9],[18,7,18,9],[19,7,19,9],[20,7,20,9],[21,7,21,9],[22,7,22,9],[39,0,39,9],[40,0,40,9],[41,0,47,9],[8,7,8,9],[9,7,9,9],[10,7,10,9],[11,7,11,9],[12,7,12,9],[35,7,35,9],[36,7,36,9],[25,7,25,9],[26,7,26,9],[27,7,27,9],[28,7,28,9],[23,7,23,9],[24,7,24,9],[13,7,13,9],[14,7,14,9],[15,7,15,9],[16,7,16,9],[7,0,7,9],[5,0,5,1],[5,2,5,3],[5,4,5,5],[5,7,5,8],[6,0,6,1],[6,2,6,3],[6,4,6,5],[6,7,6,8],[0,0,1,9],[2,0,2,9],[3,0,3,1],[3,4,3,5],[3,7,3,8],[4,0,4,1],[4,2,4,3],[4,4,4,5],[4,7,4,8]]}
["Indsæt protokolnavn"]
[]
["Protokoloplysninger"]
["kV (angiv begge ved dual-teknik)",null,null,null,"Antal skanfaser, udover oversigt(erne)",null,null,"Iterativ rekonstruktion (skriv gerne detaljer)"]
["Kontrast tracking",null,null,null,"CTDI kalibrering",null,null,"Snittykkelse (rekonstruktion)"]
["Aksial/Spiral",null,null,null,"Dosis-modulering (AEC)",null,null,"Rotationstid (s)"]
["Pitch",null,null,null,"Antal snit pr. rotation",null,null,"Skannet snittykkelse (mm)"]
[]
["kV","CTDIvol [mGy]","DLP [mGy·cm]","SSDE","Højde [cm]","Vægt [kg]","Alder [år]","Bemærkninger"]
[]
[]
[]
[]
[]
[]
[]
[]
[]
[]
[]
[]
[]
[]
[]
[]
[]
[]
[]
[]
[]
[]
[]
[]
[]
[]
[]
[]
[]
[]
[]
["Kommentarer"]

{"sheet":"Valgfri","index":10,"n_rows":41,"n_cols":9,"rows_kept":41,"cut":false,"hidden":false,"merged":[[41,0,47,9],[10,8,10,9],[11,8,11,9],[12,8,12,9],[13,8,13,9],[35,8,35,9],[36,8,36,9],[37,8,37,9],[38,8,38,9],[40,0,40,9],[27,8,27,9],[28,8,28,9],[29,8,29,9],[30,8,30,9],[31,8,31,9],[32,8,32,9],[0,0,1,9],[5,0,5,1],[5,2,5,3],[5,4,5,5],[6,0,6,1],[6,2,6,3],[6,4,6,5],[4,2,4,3],[4,4,4,5],[26,8,26,9],[15,8,15,9],[16,8,16,9],[17,8,17,9],[18,8,18,9],[19,8,19,9],[20,8,20,9],[21,8,21,9],[22,8,22,9],[23,8,23,9],[24,8,24,9],[33,8,33,9],[34,8,34,9],[7,0,7,9],[39,0,39,9],[2,0,2,9],[3,7,3,8],[4,7,4,8],[5,7,5,8],[6,7,6,8],[3,0,3,1],[3,4,3,5],[4,0,4,1],[8,8,8,9],[9,8,9,9],[14,8,14,9],[25,8,25,9]]}
["Indsæt protokolnavn"]
[]
["Protokoloplysninger"]
["kV (angiv begge ved dual-teknik)",null,null,null,"Antal skanfaser, udover oversigt(erne)",null,null,"Iterativ rekonstruktion (skriv gerne detaljer)"]
["Kontrast tracking",null,null,null,"CTDI kalibrering",null,null,"Snittykkelse (rekonstruktion)"]
["Aksial/Spiral",null,null,null,"Dosis-modulering (AEC)",null,null,"Rotationstid (s)"]
["Pitch",null,null,null,"Antal snit pr. rotation",null,null,"Skannet snittykkelse (mm)"]
[]
["kV","CTDIvol [mGy]","DLP [mGy·cm]","SSDE","Højde [cm]","Vægt [kg]","Køn [K/M]","Alder [år]","Bemærkninger"]
[]
[]
[]
[]
[]
[]
[]
[]
[]
[]
[]
[]
[]
[]
[]
[]
[]
[]
[]
[]
[]
[]
[]
[]
[]
[]
[]
[]
[]
[]
[]
["Kommentarer"]

{"sheet":"Data, kurver","index":11,"n_rows":83,"n_cols":11,"rows_kept":83,"cut":false,"hidden":true,"merged":[]}
["CT Thorax",null,null,null,null,null,"CT Abdomen"]
[null,null,"CTDI","DLP",null,null,null,null,"CTDI","DLP"]
["[5-<15 kg]",null,1.22,25.3,null,null,"[5-<15 kg]"]
["[15-<30kg]",null,1.58,41.4,null,null,"[15-<30kg]",null,2.6,91.7]
["[30-<50 kg]",null,2.4300000000000002,64.7,null,null,"[30-<50 kg]",null,3.4,150.30000000000001]
["[50-<70 kg]",null,2.99,103,null,null,"[50-<70 kg]",null,5,247]
[]
[]
[null,"k","DQ2","DQ3",null,null,null,"k","DQ2","DQ3"]
["CTDI - Nordisk",1.67E-2,0.93,1.08,null,null,"CTDI - Nordisk",0.02,1.1599999999999999,1.56]
["DLP - Nordisk",0.03,15.2,19.3,null,null,"DLP - Nordisk",2.9000000000000001E-2,33.5,44.3]
[]
[]
[]
[]
[null,"CTDI",null,"DLP",null,null,null,"CTDI",null,"DLP"]
["w","Q2","Q3",null,null,null,"w","Q2","Q3"]
[5,{"$f":"$C$10*EXP($B$10*A18)","v":1.0109892502223761},{"$f":"$D$10*EXP($B$10*A18)","v":1.1740520325163077},{"$f":"$C$11*EXP($B$11*A18)","v":17.659880489469902},{"$f":"$D$11*EXP($B$11*A18)","v":22.423400884655862},null,5,{"$f":"'Data, kurver'!$I$10*EXP('Data, kurver'!$H$10*G18)","v":1.2819982649677513},{"$f":"'Data, kurver'!$J$10*EXP('Data, kurver'!$H$10*G18)","v":1.7240666321980105},{"$f":"'Data, kurver'!$I$11*EXP('Data, kurver'!$H$11*G18)","v":38.727325603978727},{"$f":"'Data, kurver'!$J$11*EXP('Data, kurver'!$H$11*G18)","v":51.21255296287336}]
[6,1.0280145361586639,1.1938233323132872,18.197703919451513,23.106295108250936,null,6,{"$f":"'Data, kurver'!$I$10*EXP('Data, kurver'!$H$10*G19)","v":1.3078963478320758},{"$f":"'Data, kurver'!$J$10*EXP('Data, kurver'!$H$10*G19)","v":1.7588950884638261},{"$f":"'Data, kurver'!$I$11*EXP('Data, kurver'!$H$11*G19)","v":39.86686145498215},{"$f":"'Data, kurver'!$J$11*EXP('Data, kurver'!$H$11*G19)","v":52.71946156584206}]
[7,1.0453265317322191,1.2139275852374158,18.751906511342497,23.809986557165143,null,7,{"$f":"'Data, kurver'!$I$10*EXP('Data, kurver'!$H$10*G20)","v":1.3343176066743836},{"$f":"'Data, kurver'!$J$10*EXP('Data, kurver'!$H$10*G20)","v":1.7944271262172748},{"$f":"'Data, kurver'!$I$11*EXP('Data, kurver'!$H$11*G20)","v":41.039927686291222},{"$f":"'Data, kurver'!$J$11*EXP('Data, kurver'!$H$11*G20)","v":54.270710343364208}]
[8,1.0629300651976983,1.2343703982941012,19.322987084885352,24.535108601203113,null,8,{"$f":"'Data, kurver'!$I$10*EXP('Data, kurver'!$H$10*G21)","v":1.3612726103504997},{"$f":"'Data, kurver'!$J$10*EXP('Data, kurver'!$H$10*G21)","v":1.830676958747224},{"$f":"'Data, kurver'!$I$11*EXP('Data, kurver'!$H$11*G21)","v":42.247510915749032},{"$f":"'Data, kurver'!$J$11*EXP('Data, kurver'!$H$11*G21)","v":55.867603987094988}]
[9,1.0808300461186502,1.255157472911981,19.911459651145357,25.282313899151674,null,9,{"$f":"'Data, kurver'!$I$10*EXP('Data, kurver'!$H$10*G22)","v":1.3887721412212997},{"$f":"'Data, kurver'!$J$10*EXP('Data, kurver'!$H$10*G22)","v":1.867659086470024},{"$f":"'Data, kurver'!$I$11*EXP('Data, kurver'!$H$11*G22)","v":43.490626792028614},{"$f":"'Data, kurver'!$J$11*EXP('Data, kurver'!$H$11*G22)","v":57.51148557871246}]
[10,1.0990314667367762,1.2762946065330305,20.517853875155247,26.052274986216862,null,10,{"$f":"'Data, kurver'!$I$10*EXP('Data, kurver'!$H$10*G23)","v":1.4168271994657968},{"$f":"'Data, kurver'!$J$10*EXP('Data, kurver'!$H$10*G23)","v":1.905388302729865},{"$f":"'Data, kurver'!$I$11*EXP('Data, kurver'!$H$11*G23)","v":44.770320848853316},{"$f":"'Data, kurver'!$J$11*EXP('Data, kurver'!$H$11*G23)","v":59.203737719528412}]
[11,1.1175394033642485,1.29778769422945,21.142715552649459,26.845684879350959,null,11,{"$f":"'Data, kurver'!$I$10*EXP('Data, kurver'!$H$10*G24)","v":1.4454490074813615},{"$f":"'Data, kurver'!$J$10*EXP('Data, kurver'!$H$10*G24)","v":1.9438796997163141},{"$f":"'Data, kurver'!$I$11*EXP('Data, kurver'!$H$11*G24)","v":46.087669384352317},{"$f":"'Data, kurver'!$J$11*EXP('Data, kurver'!$H$11*G24)","v":60.945783693337539}]
[12,1.1363590177994762,1.3196427303477789,21.78660710131717,27.663257701014565,null,12,{"$f":"'Data, kurver'!$I$10*EXP('Data, kurver'!$H$10*G25)","v":1.4746490143728295},{"$f":"'Data, kurver'!$J$10*EXP('Data, kurver'!$H$10*G25)","v":1.9831486745013915},{"$f":"'Data, kurver'!$I$11*EXP('Data, kurver'!$H$11*G25)","v":47.443780366290788},{"$f":"'Data, kurver'!$J$11*EXP('Data, kurver'!$H$11*G25)","v":62.739088663483038}]
[13,1.1554955587667119,1.3418658101806977,22.450108067016167,28.505729321935004,null,13,{"$f":"'Data, kurver'!$I$10*EXP('Data, kurver'!$H$10*G26)","v":1.5044389005322951},{"$f":"'Data, kurver'!$J$10*EXP('Data, kurver'!$H$10*G26)","v":2.0232109351986041},{"$f":"'Data, kurver'!$I$11*EXP('Data, kurver'!$H$11*G26)","v":48.839794363936065},{"$f":"'Data, kurver'!$J$11*EXP('Data, kurver'!$H$11*G26)","v":64.585160905145301}]
[14,1.1749543633799033,1.3644631316669846,23.133815645403232,29.373858023439631,null,14,{"$f":"'Data, kurver'!$I$10*EXP('Data, kurver'!$H$10*G27)","v":1.5348305823114268},{"$f":"'Data, kurver'!$J$10*EXP('Data, kurver'!$H$10*G27)","v":2.0640825072464017},{"$f":"'Data, kurver'!$I$11*EXP('Data, kurver'!$H$11*G27)","v":50.276885507343671},{"$f":"'Data, kurver'!$J$11*EXP('Data, kurver'!$H$11*G27)","v":66.485553073890287}]
[15,1.1947408586311952,1.3874409971200976,23.838345219450563,30.268425179960257,null,15,{"$f":"'Data, kurver'!$I$10*EXP('Data, kurver'!$H$10*G28)","v":1.5658362167881636},{"$f":"'Data, kurver'!$J$10*EXP('Data, kurver'!$H$10*G28)","v":2.1057797398185651},{"$f":"'Data, kurver'!$I$11*EXP('Data, kurver'!$H$11*G28)","v":51.756262474869835},{"$f":"'Data, kurver'!$J$11*EXP('Data, kurver'!$H$11*G28)","v":68.441863511544284}]
[16,1.2148605629044982,1.4108058149858687,24.564330913331979,31.190235962322845,null,16,{"$f":"'Data, kurver'!$I$10*EXP('Data, kurver'!$H$10*G29)","v":1.5974682066297101},{"$f":"'Data, kurver'!$J$10*EXP('Data, kurver'!$H$10*G29)","v":2.1483193123640931},{"$f":"'Data, kurver'!$I$11*EXP('Data, kurver'!$H$11*G29)","v":53.279169509741315},{"$f":"'Data, kurver'!$J$11*EXP('Data, kurver'!$H$11*G29)","v":70.455737590493726}]
[17,1.2353190875145463,1.4345641016297959,25.312426163177474,32.140120062455608,null,17,{"$f":"'Data, kurver'!$I$10*EXP('Data, kurver'!$H$10*G30)","v":1.6297392050537687},{"$f":"'Data, kurver'!$J$10*EXP('Data, kurver'!$H$10*G30)","v":2.1917182412792062},{"$f":"'Data, kurver'!$I$11*EXP('Data, kurver'!$H$11*G30)","v":54.846887466537211},{"$f":"'Data, kurver'!$J$11*EXP('Data, kurver'!$H$11*G30)","v":72.528869097540237}]
[18,1.2561221382718748,1.4587224831544352,26.08330430520985,33.118932440167768,null,18,{"$f":"'Data, kurver'!$I$10*EXP('Data, kurver'!$H$10*G31)","v":1.6626621208899945},{"$f":"'Data, kurver'!$J$10*EXP('Data, kurver'!$H$10*G31)","v":2.2359938867141307},{"$f":"'Data, kurver'!$I$11*EXP('Data, kurver'!$H$11*G31)","v":56.460734888463193},{"$f":"'Data, kurver'!$J$11*EXP('Data, kurver'!$H$11*G31)","v":74.66300165847521}]
[19,1.2772755170741479,1.4832876972473976,26.877659181792772,34.12755409267109,null,19,{"$f":"'Data, kurver'!$I$10*EXP('Data, kurver'!$H$10*G32)","v":1.6962501237437002},{"$f":"'Data, kurver'!$J$10*EXP('Data, kurver'!$H$10*G32)","v":2.2811639595173903},{"$f":"'Data, kurver'!$I$11*EXP('Data, kurver'!$H$11*G32)","v":58.122069116324099},{"$f":"'Data, kurver'!$J$11*EXP('Data, kurver'!$H$11*G32)","v":76.859930204571867}]
[20,1.29878512352429,1.5082665950604657,27.696205765935733,35.166892847536822,null,20,{"$f":"'Data, kurver'!$I$10*EXP('Data, kurver'!$H$10*G33)","v":1.7305166492638735},{"$f":"'Data, kurver'!$J$10*EXP('Data, kurver'!$H$10*G33)","v":2.3272465283203818},{"$f":"'Data, kurver'!$I$11*EXP('Data, kurver'!$H$11*G33)","v":59.832287430127458},{"$f":"'Data, kurver'!$J$11*EXP('Data, kurver'!$H$11*G33)","v":79.121502482228252}]
[21,1.3206569565758624,1.5336661431203564,28.539680804818016,36.237884179801824,null,21,{"$f":"'Data, kurver'!$I$10*EXP('Data, kurver'!$H$10*G34)","v":1.7654754045176149},{"$f":"'Data, kurver'!$J$10*EXP('Data, kurver'!$H$10*G34)","v":2.3742600267650684},{"$f":"'Data, kurver'!$I$11*EXP('Data, kurver'!$H$11*G34)","v":61.592828224278428},{"$f":"'Data, kurver'!$J$11*EXP('Data, kurver'!$H$11*G34)","v":81.449620607030866}]
[22,1.3428971162061514,1.5594934252716597,29.408843482910878,37.341492053959207,null,22,{"$f":"'Data, kurver'!$I$10*EXP('Data, kurver'!$H$10*G35)","v":1.8011403734731497},{"$f":"'Data, kurver'!$J$10*EXP('Data, kurver'!$H$10*G35)","v":2.4222232608776841},{"$f":"'Data, kurver'!$I$11*EXP('Data, kurver'!$H$11*G35)","v":63.405172217354206},{"$f":"'Data, kurver'!$J$11*EXP('Data, kurver'!$H$11*G35)","v":83.846242663546008}]
[23,1.3655118051174304,1.5857556446524999,30.304476105294849,38.478709791591491,null,23,{"$f":"'Data, kurver'!$I$10*EXP('Data, kurver'!$H$10*G36)","v":1.8375258225935989},{"$f":"'Data, kurver'!$J$10*EXP('Data, kurver'!$H$10*G36)","v":2.4711554165913916},{"$f":"'Data, kurver'!$I$11*EXP('Data, kurver'!$H$11*G36)","v":65.270843697475698},{"$f":"'Data, kurver'!$J$11*EXP('Data, kurver'!$H$11*G36)","v":86.313384352184272}]
[24,1.3885073304668716,1.6124601257034636,31.227384801787089,39.650560965427033,null,24,{"$f":"'Data, kurver'!$I$10*EXP('Data, kurver'!$H$10*G37)","v":1.8746463065437562},{"$f":"'Data, kurver'!$J$10*EXP('Data, kurver'!$H$10*G37)","v":2.5210760674209141},{"$f":"'Data, kurver'!$I$11*EXP('Data, kurver'!$H$11*G37)","v":67.191411804323565},{"$f":"'Data, kurver'!$J$11*EXP('Data, kurver'!$H$11*G37)","v":88.85312068452339}]
[25,1.411890105625589,1.6396143162103616,32.178400252512652,40.858100320624622,null,25,{"$f":"'Data, kurver'!$I$10*EXP('Data, kurver'!$H$10*G38)","v":1.9125166740121486},{"$f":"'Data, kurver'!$J$10*EXP('Data, kurver'!$H$10*G38)","v":2.5720051822921999},{"$f":"'Data, kurver'!$I$11*EXP('Data, kurver'!$H$11*G38)","v":69.168491848877309},{"$f":"'Data, kurver'!$J$11*EXP('Data, kurver'!$H$11*G38)","v":91.467587728515355}]
[26,1.4356666519673076,1.6672257893813893,33.158378435572658,42.102414724115285,null,26,{"$f":"'Data, kurver'!$I$10*EXP('Data, kurver'!$H$10*G39)","v":1.9511520736507082},{"$f":"'Data, kurver'!$J$10*EXP('Data, kurver'!$H$10*G39)","v":2.6239631335302627},{"$f":"'Data, kurver'!$I$11*EXP('Data, kurver'!$H$11*G39)","v":71.203746671986906},{"$f":"'Data, kurver'!$J$11*EXP('Data, kurver'!$H$11*G39)","v":94.158984405045359}]
[27,1.4598436006871482,1.695302245959269,34.168201397482363,43.384624142855898,null,27,{"$f":"'Data, kurver'!$I$10*EXP('Data, kurver'!$H$10*G40)","v":1.9905679601344357},{"$f":"'Data, kurver'!$J$10*EXP('Data, kurver'!$H$10*G40)","v":2.6769707050083795},{"$f":"'Data, kurver'!$I$11*EXP('Data, kurver'!$H$11*G40)","v":73.298888042920069},{"$f":"'Data, kurver'!$J$11*EXP('Data, kurver'!$H$11*G40)","v":96.929574337353998}]
[28,1.4844276946510475,1.7238515163689585,35.208778047072592,44.705882651875065,null,28,{"$f":"'Data, kurver'!$I$10*EXP('Data, kurver'!$H$10*G41)","v":2.0307801003434771},{"$f":"'Data, kurver'!$J$10*EXP('Data, kurver'!$H$10*G41)","v":2.731049100461918},{"$f":"'Data, kurver'!$I$11*EXP('Data, kurver'!$H$11*G41)","v":75.455678099061004},{"$f":"'Data, kurver'!$J$11*EXP('Data, kurver'!$H$11*G41)","v":99.78168775487768}]
[29,1.5094257902763175,1.75288156290153,36.281044973569003,46.067379473018541,null,29,{"$f":"'Data, kurver'!$I$10*EXP('Data, kurver'!$H$10*G42)","v":2.071804579670085},{"$f":"'Data, kurver'!$J$10*EXP('Data, kurver'!$H$10*G42)","v":2.7862199519701147},{"$f":"'Data, kurver'!$I$11*EXP('Data, kurver'!$H$11*G42)","v":77.675930827971882},{"$f":"'Data, kurver'!$J$11*EXP('Data, kurver'!$H$11*G42)","v":102.71772345310907}]
[30,1.5348448594438768,1.7824004819348247,37.385967289585629,47.470340045329124,null,30,{"$f":"'Data, kurver'!$I$10*EXP('Data, kurver'!$H$10*G43)","v":2.1136578084529902},{"$f":"'Data, kurver'!$J$10*EXP('Data, kurver'!$H$10*G43)","v":2.8425053286091941},{"$f":"'Data, kurver'!$I$11*EXP('Data, kurver'!$H$11*G43)","v":79.961513593063259},{"$f":"'Data, kurver'!$J$11*EXP('Data, kurver'!$H$11*G43)","v":105.74015081112545}]
[31,1.5606919914426849,1.812416506191505,38.524539499791388,48.916027128024595,null,31,{"$f":"'Data, kurver'!$I$10*EXP('Data, kurver'!$H$10*G44)","v":2.1563565285417567},{"$f":"'Data, kurver'!$J$10*EXP('Data, kurver'!$H$10*G44)","v":2.8999277452802938},{"$f":"'Data, kurver'!$I$11*EXP('Data, kurver'!$H$11*G44)","v":82.314348704156814},{"$f":"'Data, kurver'!$J$11*EXP('Data, kurver'!$H$11*G44)","v":108.85151186848199}]
[32,1.5869743949469179,1.8429380070351304,39.69778639603139,50.405741937066175,null,32,{"$f":"'Data, kurver'!$I$10*EXP('Data, kurver'!$H$10*G45)","v":2.1999178199937437},{"$f":"'Data, kurver'!$J$10*EXP('Data, kurver'!$H$10*G45)","v":2.9585101717157243},{"$f":"'Data, kurver'!$I$11*EXP('Data, kurver'!$H$11*G45)","v":84.736415034261142},{"$f":"'Data, kurver'!$J$11*EXP('Data, kurver'!$H$11*G45)","v":112.05442346321696}]
[33,1.6136994000264437,1.8739734968049024,40.906763979708778,51.940825316340757,null,33,{"$f":"'Data, kurver'!$I$10*EXP('Data, kurver'!$H$10*G46)","v":2.2443591079063565},{"$f":"'Data, kurver'!$J$10*EXP('Data, kurver'!$H$10*G46)","v":3.0182760416671695},{"$f":"'Data, kurver'!$I$11*EXP('Data, kurver'!$H$11*G46)","v":87.229749683920659},{"$f":"'Data, kurver'!$J$11*EXP('Data, kurver'!$H$11*G46)","v":115.35157943276673}]
[34,1.640874460191152,1.9055316311897248,42.152560412257323,53.522658944510951,null,34,{"$f":"'Data, kurver'!$I$10*EXP('Data, kurver'!$H$10*G47)","v":2.2896981693873193},{"$f":"'Data, kurver'!$J$10*EXP('Data, kurver'!$H$10*G47)","v":3.0792492622794985},{"$f":"'Data, kurver'!$I$11*EXP('Data, kurver'!$H$11*G47)","v":89.796449694537202},{"$f":"'Data, kurver'!$J$11*EXP('Data, kurver'!$H$11*G47)","v":118.74575287964173}]
[35,1.6685071544697132,1.9376212116422475,43.436296994560088,55.152666578619062,null,35,{"$f":"'Data, kurver'!$I$10*EXP('Data, kurver'!$H$10*G48)","v":2.3359531406657528},{"$f":"'Data, kurver'!$J$10*EXP('Data, kurver'!$H$10*G48)","v":3.1414542236539438},{"$f":"'Data, kurver'!$I$11*EXP('Data, kurver'!$H$11*G48)","v":92.438673812105435},{"$f":"'Data, kurver'!$J$11*EXP('Data, kurver'!$H$11*G48)","v":122.23979850376926}]
[36,1.6966051895233407,1.9702511878335569,44.759129176195962,56.832315335564616,null,36,{"$f":"'Data, kurver'!$I$10*EXP('Data, kurver'!$H$10*G49)","v":2.3831425243469093},{"$f":"'Data, kurver'!$J$10*EXP('Data, kurver'!$H$10*G49)","v":3.2049158086044649},{"$f":"'Data, kurver'!$I$11*EXP('Data, kurver'!$H$11*G49)","v":95.158644302845531},{"$f":"'Data, kurver'!$J$11*EXP('Data, kurver'!$H$11*G49)","v":125.83665500346437}]
[37,{"$f":"$C$10*EXP($B$10*A50)","v":1.7251764017951541},{"$f":"$D$10*EXP($B$10*A50)","v":2.0034306601492111},{"$f":"$C$11*EXP($B$11*A50)","v":46.122247595422266},{"$f":"$D$11*EXP($B$11*A50)","v":58.563117012608537},null,37,{"$f":"'Data, kurver'!$I$10*EXP('Data, kurver'!$H$10*G50)","v":2.4312851968134623},{"$f":"'Data, kurver'!$J$10*EXP('Data, kurver'!$H$10*G50)","v":3.2696594026112082},{"$f":"'Data, kurver'!$I$11*EXP('Data, kurver'!$H$11*G50)","v":97.95864882225996},{"$f":"'Data, kurver'!$J$11*EXP('Data, kurver'!$H$11*G50)","v":129.53934754704824}]
[38,1.7542287596957336,2.0371688822273035,47.526879150829558,60.346629448092798,null,38,{"$f":"'Data, kurver'!$I$10*EXP('Data, kurver'!$H$10*G51)","v":2.4804004157763093},{"$f":"'Data, kurver'!$J$10*EXP('Data, kurver'!$H$10*G51)","v":3.3357109039750368},{"$f":"'Data, kurver'!$I$11*EXP('Data, kurver'!$H$11*G51)","v":100.84104233918673},{"$f":"'Data, kurver'!$J$11*EXP('Data, kurver'!$H$11*G51)","v":133.35099031719318}]
[39,1.7837703658254824,2.0714752635392699,48.974288105633192,62.184457923600043,null,39,{"$f":"'Data, kurver'!$I$10*EXP('Data, kurver'!$H$10*G52)","v":2.530507827977913},{"$f":"'Data, kurver'!$J$10*EXP('Data, kurver'!$H$10*G52)","v":3.4030967341771938},{"$f":"'Data, kurver'!$I$11*EXP('Data, kurver'!$H$11*G52)","v":103.8082491164668},{"$f":"'Data, kurver'!$J$11*EXP('Data, kurver'!$H$11*G52)","v":137.27478913013368}]
[40,1.8138094592344141,2.1063593720141585,50.465777225595517,64.078256608815366,null,40,{"$f":"'Data, kurver'!$I$10*EXP('Data, kurver'!$H$10*G53)","v":2.5816274770512626},{"$f":"'Data, kurver'!$J$10*EXP('Data, kurver'!$H$10*G53)","v":3.4718438484482501},{"$f":"'Data, kurver'!$I$11*EXP('Data, kurver'!$H$11*G53)","v":106.86276474989219},{"$f":"'Data, kurver'!$J$11*EXP('Data, kurver'!$H$11*G53)","v":141.31404413194699}]
[41,1.8443544177199938,2.1418309367070894,52.002688951603034,66.029730050390697,null,41,{"$f":"'Data, kurver'!$I$10*EXP('Data, kurver'!$H$10*G54)","v":2.633779811537591},{"$f":"'Data, kurver'!$J$10*EXP('Data, kurver'!$H$10*G54)","v":3.5419797465505538},{"$f":"'Data, kurver'!$I$11*EXP('Data, kurver'!$H$11*G54)","v":110.00715826714908},{"$f":"'Data, kurver'!$J$11*EXP('Data, kurver'!$H$11*G54)","v":145.47215257417028}]
[42,1.8754137601636764,2.1778998505126568,53.586406607953812,68.040634706151877,null,42,{"$f":"'Data, kurver'!$I$10*EXP('Data, kurver'!$H$10*G55)","v":2.6869856930660658},{"$f":"'Data, kurver'!$J$10*EXP('Data, kurver'!$H$10*G55)","v":3.6135324837785028},{"$f":"'Data, kurver'!$I$11*EXP('Data, kurver'!$H$11*G55)","v":113.24407428852146},{"$f":"'Data, kurver'!$J$11*EXP('Data, kurver'!$H$11*G55)","v":149.75261167108957}]
[43,1.9069961489067937,2.2145761729240183,55.218355647442699,70.112780526029226,null,43,{"$f":"'Data, kurver'!$I$10*EXP('Data, kurver'!$H$10*G56)","v":2.7412664046987216},{"$f":"'Data, kurver'!$J$10*EXP('Data, kurver'!$H$10*G56)","v":3.68653068218104},{"$f":"'Data, kurver'!$I$11*EXP('Data, kurver'!$H$11*G56)","v":116.57623525117282},{"$f":"'Data, kurver'!$J$11*EXP('Data, kurver'!$H$11*G56)","v":154.15902154110313}]
[44,1.9391103921664492,2.2518701328384569,56.900004934365093,72.248032581134638,null,44,{"$f":"'Data, kurver'!$I$10*EXP('Data, kurver'!$H$10*G57)","v":2.796643659443963},{"$f":"'Data, kurver'!$J$10*EXP('Data, kurver'!$H$10*G57)","v":3.7610035420108474},{"$f":"'Data, kurver'!$I$11*EXP('Data, kurver'!$H$11*G57)","v":120.00644369887601},{"$f":"'Data, kurver'!$J$11*EXP('Data, kurver'!$H$11*G57)","v":158.69508823463303}]
[45,1.9717654464921004,2.2897921314101812,58.632868066594,74.448312742451606,null,45,{"$f":"'Data, kurver'!$I$10*EXP('Data, kurver'!$H$10*G58)","v":2.8531396089420618},{"$f":"'Data, kurver'!$J$10*EXP('Data, kurver'!$H$10*G58)","v":3.836980853404842},{"$f":"'Data, kurver'!$I$11*EXP('Data, kurver'!$H$11*G58)","v":123.53758463911808},{"$f":"'Data, kurver'!$J$11*EXP('Data, kurver'!$H$11*G58)","v":163.36462685113224}]
[46,2.0049704192635089,2.3283527449511721,60.418504737920166,76.715601410648631,null,46,{"$f":"'Data, kurver'!$I$10*EXP('Data, kurver'!$H$10*G59)","v":2.9107768523261055},{"$f":"'Data, kurver'!$J$10*EXP('Data, kurver'!$H$10*G59)","v":3.9144930083006249},{"$f":"'Data, kurver'!$I$11*EXP('Data, kurver'!$H$11*G59)","v":127.17262796956126},{"$f":"'Data, kurver'!$J$11*EXP('Data, kurver'!$H$11*G59)","v":168.17156474780785}]
[47,2.038734571230755,2.3675627278808768,62.258522141881869,79.051939298573686,null,47,{"$f":"'Data, kurver'!$I$10*EXP('Data, kurver'!$H$10*G60)","v":2.9695784452619551},{"$f":"'Data, kurver'!$J$10*EXP('Data, kurver'!$H$10*G60)","v":3.9935710125936641},{"$f":"'Data, kurver'!$I$11*EXP('Data, kurver'!$H$11*G60)","v":130.91463097590227},{"$f":"'Data, kurver'!$J$11*EXP('Data, kurver'!$H$11*G60)","v":173.1199448427603}]
[48,2.0730673190970297,2.4074330157255828,64.154576418347588,81.45942926803346,null,48,{"$f":"'Data, kurver'!$I$10*EXP('Data, kurver'!$H$10*G61)","v":3.0295679091708165},{"$f":"'Data, kurver'!$J$10*EXP('Data, kurver'!$H$10*G61)","v":4.0742464985400639},{"$f":"'Data, kurver'!$I$11*EXP('Data, kurver'!$H$11*G61)","v":134.76674090322962},{"$f":"'Data, kurver'!$J$11*EXP('Data, kurver'!$H$11*G61)","v":178.21392901531559}]
[49,2.1079782381449204,2.4479747281682949,66.108374144153657,83.940238222510914,null,49,{"$f":"'Data, kurver'!$I$10*EXP('Data, kurver'!$H$10*G62)","v":3.0907692406381235},{"$f":"'Data, kurver'!$J$10*EXP('Data, kurver'!$H$10*G62)","v":4.1565517374098908},{"$f":"'Data, kurver'!$I$11*EXP('Data, kurver'!$H$11*G62)","v":138.73219760304215},{"$f":"'Data, kurver'!$J$11*EXP('Data, kurver'!$H$11*G62)","v":183.45780160641095}]
[50,2.1434770649069219,2.4891991721499735,68.121673869138576,86.496599057524648,null,50,{"$f":"'Data, kurver'!$I$10*EXP('Data, kurver'!$H$10*G63)","v":3.153206921012492},{"$f":"'Data, kurver'!$J$10*EXP('Data, kurver'!$H$10*G63)","v":4.2405196523961104},{"$f":"'Data, kurver'!$I$11*EXP('Data, kurver'!$H$11*G63)","v":142.81433625815544},{"$f":"'Data, kurver'!$J$11*EXP('Data, kurver'!$H$11*G63)","v":188.85597302197866}]
[51,2.1795736998809225,2.5311178450230067,70.196287698956667,89.130812670385779,null,51,{"$f":"'Data, kurver'!$I$10*EXP('Data, kurver'!$H$10*G64)","v":3.2169059261985851},{"$f":"'Data, kurver'!$J$10*EXP('Data, kurver'!$H$10*G64)","v":4.3261838317843049},{"$f":"'Data, kurver'!$I$11*EXP('Data, kurver'!$H$11*G64)","v":147.01659018778659},{"$f":"'Data, kurver'!$J$11*EXP('Data, kurver'!$H$11*G64)","v":194.41298344235656}]
[52,2.2162782102914171,2.5737424377577747,72.334082926095377,91.845250031160589,null,52,{"$f":"'Data, kurver'!$I$10*EXP('Data, kurver'!$H$10*G65)","v":3.2818917366478093},{"$f":"'Data, kurver'!$J$10*EXP('Data, kurver'!$H$10*G65)","v":4.4135785423884331},{"$f":"'Data, kurver'!$I$11*EXP('Data, kurver'!$H$11*G65)","v":151.34249373517869},{"$f":"'Data, kurver'!$J$11*EXP('Data, kurver'!$H$11*G65)","v":200.13350664084825}]
[53,2.2536008328972228,2.6170848382032266,74.536983710564641,94.642354316703788,null,53,{"$f":"'Data, kurver'!$I$10*EXP('Data, kurver'!$H$10*G66)","v":3.3481903475508319},{"$f":"'Data, kurver'!$J$10*EXP('Data, kurver'!$H$10*G66)","v":4.502738743258015},{"$f":"'Data, kurver'!$I$11*EXP('Data, kurver'!$H$11*G66)","v":155.79568524019137},{"$f":"'Data, kurver'!$J$11*EXP('Data, kurver'!$H$11*G66)","v":206.02235391464112}]
[54,2.2915519768464709,2.661157134402353,76.806972811770777,97.524643109682629,null,54,{"$f":"'Data, kurver'!$I$10*EXP('Data, kurver'!$H$10*G67)","v":3.415828279236008},{"$f":"'Data, kurver'!$J$10*EXP('Data, kurver'!$H$10*G67)","v":4.5937000996622182},{"$f":"'Data, kurver'!$I$11*EXP('Data, kurver'!$H$11*G67)","v":160.37991009935914},{"$f":"'Data, kurver'!$J$11*EXP('Data, kurver'!$H$11*G67)","v":212.08447813139131}]
[55,2.3301422265796856,2.705971617963506,79.146093373133695,100.49471066457109,null,55,{"$f":"'Data, kurver'!$I$10*EXP('Data, kurver'!$H$10*G68)","v":3.4848325877778623},{"$f":"'Data, kurver'!$J$10*EXP('Data, kurver'!$H$10*G68)","v":4.6864989973564359},{"$f":"'Data, kurver'!$I$11*EXP('Data, kurver'!$H$11*G68)","v":165.09902391599067},{"$f":"'Data, kurver'!$J$11*EXP('Data, kurver'!$H$11*G68)","v":218.32497789487721}]
[56,2.3693823447817457,2.7515407874884787,81.556450761054009,103.5552302426541,null,56,{"$f":"'Data, kurver'!$I$10*EXP('Data, kurver'!$H$10*G69)","v":3.5552308758198827},{"$f":"'Data, kurver'!$J$10*EXP('Data, kurver'!$H$10*G69)","v":4.7811725571370838},{"$f":"'Data, kurver'!$I$11*EXP('Data, kurver'!$H$11*G69)","v":169.95699574295867},{"$f":"'Data, kurver'!$J$11*EXP('Data, kurver'!$H$11*G69)","v":224.74910183322592}]
[57,2.4092832753835585,2.7978773520583258,84.040214459884865,106.70895651814328,null,57,{"$f":"'Data, kurver'!$I$10*EXP('Data, kurver'!$H$10*G70)","v":3.6270513036159411},{"$f":"'Data, kurver'!$J$10*EXP('Data, kurver'!$H$10*G70)","v":4.8777586496904037},{"$f":"'Data, kurver'!$I$11*EXP('Data, kurver'!$H$11*G70)","v":174.95791142090673},{"$f":"'Data, kurver'!$J$11*EXP('Data, kurver'!$H$11*G70)","v":231.36225301331845}]
[58,2.4498561466142852,2.8449942347778796,86.599620024614254,109.95872805756943,null,58,{"$f":"'Data, kurver'!$I$10*EXP('Data, kurver'!$H$10*G71)","v":3.7003226002947738},{"$f":"'Data, kurver'!$J$10*EXP('Data, kurver'!$H$10*G71)","v":4.9762959107412481},{"$f":"'Data, kurver'!$I$11*EXP('Data, kurver'!$H$11*G71)","v":180.10597701468282},{"$f":"'Data, kurver'!$J$11*EXP('Data, kurver'!$H$11*G71)","v":238.16999348508801}]
[59,2.4911122741049647,2.892904576379959,89.236971093015541,113.30746987468422,null,59,{"$f":"'Data, kurver'!$I$10*EXP('Data, kurver'!$H$10*G72)","v":3.7750740753520176},{"$f":"'Data, kurver'!$J$10*EXP('Data, kurver'!$H$10*G72)","v":5.0768237565078866},{"$f":"'Data, kurver'!$I$11*EXP('Data, kurver'!$H$11*G72)","v":185.40552235088705},{"$f":"'Data, kurver'!$J$11*EXP('Data, kurver'!$H$11*G72)","v":245.17804895953122}]
[60,2.5330631640444023,2.9416217388902739,91.954641459076754,116.75819606316983,null,60,{"$f":"'Data, kurver'!$I$10*EXP('Data, kurver'!$H$10*G73)","v":3.8513356303743946},{"$f":"'Data, kurver'!$J$10*EXP('Data, kurver'!$H$10*G73)","v":5.1793823994690138},{"$f":"'Data, kurver'!$I$11*EXP('Data, kurver'!$H$11*G73)","v":190.86100465951168},{"$f":"'Data, kurver'!$J$11*EXP('Data, kurver'!$H$11*G73)","v":252.39231362436917}]
[61,2.5757205163882064,2.9911593093540461,94.755077209575688,120.31401250952703,null,61,{"$f":"'Data, kurver'!$I$10*EXP('Data, kurver'!$H$10*G74)","v":3.929137771000748},{"$f":"'Data, kurver'!$J$10*EXP('Data, kurver'!$H$10*G74)","v":5.2840128644492825},{"$f":"'Data, kurver'!$I$11*EXP('Data, kurver'!$H$11*G74)","v":196.47701232273391},{"$f":"'Data, kurver'!$J$11*EXP('Data, kurver'!$H$11*G74)","v":259.81885510140631}]
[62,2.6190962281218639,3.0415311036253905,97.640798925722819,123.97811968858227,null,62,{"$f":"'Data, kurver'!$I$10*EXP('Data, kurver'!$H$10*G75)","v":4.008511619124703},{"$f":"'Data, kurver'!$J$10*EXP('Data, kurver'!$H$10*G75)","v":5.3907570050297737},{"$f":"'Data, kurver'!$I$11*EXP('Data, kurver'!$H$11*G75)","v":202.25826873401564},{"$f":"'Data, kurver'!$J$11*EXP('Data, kurver'!$H$11*G75)","v":267.46391954975797}]
[63,2.6632023965787694,3.0927511702205064,100.61440395185477,127.75381554413138,null,63,{"$f":"'Data, kurver'!$I$10*EXP('Data, kurver'!$H$10*G76)","v":4.0894889253438436},{"$f":"'Data, kurver'!$J$10*EXP('Data, kurver'!$H$10*G76)","v":5.4996575202899969},{"$f":"'Data, kurver'!$I$11*EXP('Data, kurver'!$H$11*G76)","v":208.20963627075608},{"$f":"'Data, kurver'!$J$11*EXP('Data, kurver'!$H$11*G76)","v":275.33393691923862}]
[64,2.7080513228141245,3.1448337942357578,103.67856873321939,131.64449845731147,null,64,{"$f":"'Data, kurver'!$I$10*EXP('Data, kurver'!$H$10*G77)","v":4.1721020816603662},{"$f":"'Data, kurver'!$J$10*EXP('Data, kurver'!$H$10*G77)","v":5.6107579718880798},{"$f":"'Data, kurver'!$I$11*EXP('Data, kurver'!$H$11*G77)","v":214.33612038383757},{"$f":"'Data, kurver'!$J$11*EXP('Data, kurver'!$H$11*G77)","v":283.43552635832845}]
[65,2.7536555150356663,3.1977935013317413,106.83605122495725,135.65367030537337,null,65,{"$f":"'Data, kurver'!$I$10*EXP('Data, kurver'!$H$10*G78)","v":4.2563841344383233},{"$f":"'Data, kurver'!$J$10*EXP('Data, kurver'!$H$10*G78)","v":5.7241028014860218},{"$f":"'Data, kurver'!$I$11*EXP('Data, kurver'!$H$11*G78)","v":220.64287380750477},{"$f":"'Data, kurver'!$J$11*EXP('Data, kurver'!$H$11*G78)","v":291.77550178126751}]
[66,2.8000276920921552,3.2516450617844384,110.08969337444738,139.78493961360755,null,66,{"$f":"'Data, kurver'!$I$10*EXP('Data, kurver'!$H$10*G79)","v":4.3423687976226004},{"$f":"'Data, kurver'!$J$10*EXP('Data, kurver'!$H$10*G79)","v":5.8397373485269464},{"$f":"'Data, kurver'!$I$11*EXP('Data, kurver'!$H$11*G79)","v":227.13520089311808},{"$f":"'Data, kurver'!$J$11*EXP('Data, kurver'!$H$11*G79)","v":300.36087759895912}]
[67,2.8471807870206201,3.306403494604591,113.44242367925173,144.04202480326043,null,67,{"$f":"'Data, kurver'!$I$10*EXP('Data, kurver'!$H$10*G80)","v":4.4300904662249492},{"$f":"'Data, kurver'!$J$10*EXP('Data, kurver'!$H$10*G80)","v":5.9577078683714841},{"$f":"'Data, kurver'!$I$11*EXP('Data, kurver'!$H$11*G80)","v":233.81856207042543},{"$f":"'Data, kurver'!$J$11*EXP('Data, kurver'!$H$11*G80)","v":309.19887461850288}]
[68,2.8951279506533383,3.3620840717264571,116.89725982296076,148.42875753836466,null,68,{"$f":"'Data, kurver'!$I$10*EXP('Data, kurver'!$H$10*G81)","v":4.5195842300824491},{"$f":"'Data, kurver'!$J$10*EXP('Data, kurver'!$H$10*G81)","v":6.0780615508005358},{"$f":"'Data, kurver'!$I$11*EXP('Data, kurver'!$H$11*G81)","v":240.69857844010596},{"$f":"'Data, kurver'!$J$11*EXP('Data, kurver'!$H$11*G81)","v":318.29692611631918}]
[69,{"$f":"$C$10*EXP($B$10*A82)","v":2.9438825552855539},3.4187023222670949,120.45731139131219,152.94908617449511,null,69,{"$f":"'Data, kurver'!$I$10*EXP('Data, kurver'!$H$10*G82)","v":4.6108858878939083},{"$f":"'Data, kurver'!$J$10*EXP('Data, kurver'!$H$10*G82)","v":6.2008465388918079},{"$f":"'Data, kurver'!$I$11*EXP('Data, kurver'!$H$11*G82)","v":247.78103650144649},{"$f":"'Data, kurver'!$J$11*EXP('Data, kurver'!$H$11*G82)","v":327.66268408997252}]
[70,2.9934581984049666,3.4762740368573803,124.1257826710283,157.60707931255567,null,70,{"$f":"'Data, kurver'!$I$10*EXP('Data, kurver'!$H$10*G83)","v":4.7040319615398234},{"$f":"'Data, kurver'!$J$10*EXP('Data, kurver'!$H$10*G83)","v":6.3261119482776937},{"$f":"'Data, kurver'!$I$11*EXP('Data, kurver'!$H$11*G83)","v":255.07189301912922},{"$f":"'Data, kurver'!$J$11*EXP('Data, kurver'!$H$11*G83)","v":337.30402569395295}]